2.11666666666667
0.000000000000
0.000000000000
-2.11666666666668
595332.310430222
5922191.14663802
