2.54000000000001
0.000000000000
0.000000000000
-2.54000000000002
488508.75
4225773.10542169
