5.08
0.000000000000
0.000000000000
-5.08000000000003
474647.108433735
4220329.08433735
