0.635
0.000000000000
0.000000000000
-0.635000000000004
538044.17310076
4256862.39108604
