1.27
0.000000000000
0.000000000000
-1.27000000000001
531233.971052567
4252557.39108604
