1.27
0.000000000000
0.000000000000
-1.27000000000001
542063.898763411
4252510.71036315
