21.1666666666668
0.000000000000
0.000000000000
-21.1666666666668
515626.983684589
4471248.57521711
