21.1666666666668
0.000000000000
0.000000000000
-21.1666666666668
464882.923209428
4280774.49314368
