42.3333333333335
0.000000000000
0.000000000000
-42.3333333333335
423507.216242729
4086668.34265897
