6.35
0.000000000000
0.000000000000
-6.34999999999995
485195.317766854
4261234.26299157
