12.7
0.000000000000
0.000000000000
-12.6999999999999
485195.317766854
4261234.26299157
