1.27000000000021
0.000000000000
0.000000000000
-1.27000000000019
488688.079032024
4203045.0960961
