0.423333333333333
0.000000000000
0.000000000000
-0.423333333333336
337340.74992547
533174.746510299
