7.62
0.000000000000
0.000000000000
-7.62
788229.700427828
487451.506056397
