22.86
0.000000000000
0.000000000000
-22.86
788229.700427828
487451.506056397
