1.27
0.000000000000
0.000000000000
-1.26999999999997
188211.498833427
370771.790167981
