1.27
0.000000000000
0.000000000000
-1.27000000000001
802960.493400764
496884.649185521
