1.016
0.000000000000
0.000000000000
-1.01600000000001
837832.604062781
463544.530773507
