0.423333333333333
0.000000000000
0.000000000000
-0.423333333333336
802960.493400764
496884.649185521
