0.846666666666667
0.000000000000
0.000000000000
-0.846666666666672
802960.493400764
496884.649185521
