0.296333333333333
0.000000000000
0.000000000000
-0.296333333333335
800490.123145678
500815.722872118
