0.889
0.000000000000
0.000000000000
-0.889000000000006
800490.123145678
500815.722872118
