0.846666666666667
0.000000000000
0.000000000000
-0.846666666666672
815168.987266617
484773.300486057
