3.80999999999996
0.000000000000
0.000000000000
-3.81000000000009
371198.545272068
460182.497011849
