0.507999999999996
0.000000000000
0.000000000000
-0.508000000000002
200166.358620036
263307.110241877
