6.35
0.000000000000
0.000000000000
-6.35000000000004
549922.685293558
314028.930119706
