1.016
0.000000000000
0.000000000000
-1.01600000000001
554748.2945175
308294.439436603
