50.8
0.000000000000
0.000000000000
-50.8000000000003
237264.795996181
4345812.34648631
