1.43933333333333
0.000000000000
0.000000000000
-1.43933333333334
353353.264046711
4267439.17651325
