4.318
0.000000000000
0.000000000000
-4.31800000000003
353353.264046711
4267439.17651325
