3.81
0.000000000000
0.000000000000
-3.81000000000002
344745.314003518
4290194.61958004
