1.016
0.000000000000
0.000000000000
-1.01600000000001
355950.856759028
4323163.83275543
