0.846666666666673
0.000000000000
0.000000000000
-0.846666666666671
606266.446415166
1224732.95322588
