2.54000000000002
0.000000000000
0.000000000000
-2.54000000000001
606266.446415166
1224732.95322588
