1.27000000000001
0.000000000000
0.000000000000
-1.27000000000001
601877.60278947
1225980.60264848
