0.423333333333336
0.000000000000
0.000000000000
-0.423333333333336
601877.60278947
1225980.60264848
