4.23333333333331
0.000000000000
0.000000000000
-4.23333333333328
600757.309888431
1249855.14446435
