2.11666666666665
0.000000000000
0.000000000000
-2.11666666666664
597775.797078513
1237954.08212105
