6.35000000000058
0.000000000000
0.000000000000
-6.35000000000058
308933.306473955
4995498.39338288
