6.77333333333337
0.000000000000
0.000000000000
-6.77333333333337
309447.174085549
2086871.41435095
