2.54000000000002
0.000000000000
0.000000000000
-2.54000000000001
313587.997666762
2083850.84686563
