10.1600000000001
0.000000000000
0.000000000000
-10.1600000000001
309447.174085549
2086871.41435095
