0.952500000000092
0.000000000000
0.000000000000
-0.952500000000087
331963.851867098
3067146.71170905
