0.952499999999986
0.000000000000
0.000000000000
-0.952500000000087
331901.358063218
3065864.33885345
