0.635000000000061
0.000000000000
0.000000000000
-0.635000000000058
331963.851867098
3067146.71170905
