0.317499999999995
0.000000000000
0.000000000000
-0.317499999999956
331901.358063218
3065864.33885345
