0.63499999999999
0.000000000000
0.000000000000
-0.634999999999913
331901.358063218
3065864.33885345
