203.299746556471
0.000000000000
0.000000000000
-203.299746556471
366060.057904955
4758582.7912623
