50.8
0.000000000000
0.000000000000
-50.8
451624.35378407
4806076.08403786
