211.666666666667
0.000000000000
0.000000000000
-211.666666666667
596866.14547954
6523555.50737035
